BEGIN:VCALENDAR
VERSION:2.0
PRODID:-//West Cobb Business Association - ECPv6.15.20//NONSGML v1.0//EN
CALSCALE:GREGORIAN
METHOD:PUBLISH
X-WR-CALNAME:West Cobb Business Association
X-ORIGINAL-URL:https://wcba.heckyeahwebdesign.com
X-WR-CALDESC:Events for West Cobb Business Association
REFRESH-INTERVAL;VALUE=DURATION:PT1H
X-Robots-Tag:noindex
X-PUBLISHED-TTL:PT1H
BEGIN:VTIMEZONE
TZID:UTC
BEGIN:STANDARD
TZOFFSETFROM:+0000
TZOFFSETTO:+0000
TZNAME:UTC
DTSTART:20250101T000000
END:STANDARD
END:VTIMEZONE
BEGIN:VEVENT
DTSTART;TZID=UTC:20260226T110000
DTEND;TZID=UTC:20260226T130000
DTSTAMP:20260419T204653
CREATED:20260224T193010Z
LAST-MODIFIED:20260226T212051Z
UID:263926-1772103600-1772110800@wcba.heckyeahwebdesign.com
SUMMARY:Monthly Luncheon and Power Hour Networking Expo
DESCRIPTION:Join us on Thursday\, February 26th for our monthly luncheon \nThis month each attendee will be able to give a 30 second talk about their business! Want more time? Bring a raffle item valued at $25.00 or more for 60 seconds! \nRegistration is required before February 25\, 2026 at 2:00 p.m. \nREGISTER AS MEMBER \nREGISTER AS NON-MEMBER
URL:https://wcba.heckyeahwebdesign.com/event/monthly-luncheon-and-power-hour-networking-expo/
LOCATION:West Cobb Church\, 1245 Villa Rica Rd\, Marietta\, GA\, 30064\, United States
END:VEVENT
BEGIN:VEVENT
DTSTART;TZID=UTC:20260203T173000
DTEND;TZID=UTC:20260203T193000
DTSTAMP:20260419T204653
CREATED:20260224T044556Z
LAST-MODIFIED:20260226T040925Z
UID:263908-1770139800-1770147000@wcba.heckyeahwebdesign.com
SUMMARY:Business After Hours-Net at Night
DESCRIPTION:Join us for Net at Night!\n \nRegistration for this event has closed.
URL:https://wcba.heckyeahwebdesign.com/event/business-after-hours-net-at-night/
LOCATION:Frog Rock Brewery\, 2764 Broad St\, Austell\, GA\, 30106\, United States
END:VEVENT
END:VCALENDAR